Workbook

Sheet ĐÁNH GIÁ GV_mau_01
A1: TRƯỜNG CAO ĐẲNG LÝ TỰ TRỌNG TP. HỒ CHÍ MINH | G1: CỘNG HÒA XÃ HỘI CHỦ NGHĨA VIỆT NAM
A2: KHOA KHOA HỌC CƠ BẢN | G2: Độc lập - Tự do - Hạnh phúc
A4: PHIẾU ĐÁNH GIÁ, XẾP LOẠI CHUYÊN MÔN, NGHIỆP VỤ CỦA NHÀ GIÁO
A5: Năm học: 2017-2018
A6: Họ và tên: | B6: ĐINH TRẦN PHƯƠNG THẢO
A7: Khoa, tổ bộ môn: | B7: Khoa Khoa học Cơ bản; Bộ môn Anh văn
A8: Cấp trình độ giảng dạy: | D8: Trung cấp và Cao đẳng
A9: Các tiêu chí và tiêu chuẩn | B9: Điểm tối đa | C9: Điểm tối đa | D9: Nhà giáo tự đánh giá xếp loại | G9: Khoa đánh giá, xếp loại
D10: Điểm đánh giá đạt được (Nhà giáo tự cho điểm) | E10: Tỷ lệ % của điểm đánh giá đạt được so với điểm đánh giá tối đa của mỗi tiêu chuẩn | F10: Các minh chứng (Nhà giáo nhập minh chứng ở cột này; Mỗi tiêu chuẩn cho điểm phải có minh chứng) | G10: Điểm đánh giá đạt được (Dành cho Trưởng khoa) | H10: Tỷ lệ % của điểm đánh giá đạt được so với điểm đánh giá tối đa của mỗi tiêu chuẩn | I10: Các minh chứng (Khoa nhập minh chứng ở cột này; Mỗi tiêu chuẩn cho điểm phải có minh chứng)
A11: Tiêu chí 1 về Năng lực chuyên môn | B11: =SUM(B12,B19,B22) -> 20 | C11: =SUM(C12,C19,C22) -> 20 | D11: =SUM(D12,D22,D19) -> 20 | E11: =(D11/B11) -> 1 | F11: =IF(E11>=0.5,"Đạt","Không đạt") -> Đạt | G11: =SUM(G12,G19,G22) -> 18 | H11: =(G11/B11) -> 0.9 | I11: =IF(H11>=0.5,"Đạt","Không đạt") -> Đạt
A12: - Tiêu chuẩn 1: Trình độ chuyên môn | B12: =SUM(B13:B18) -> 12 | C12: =SUM(C13:C18) -> 12 | D12: =SUM(D13:D18) -> 12 | E12: =(D12/B12) -> 1 | F12: =IF(E12>=0.5,"Đạt"," Không đạt") -> Đạt | G12: =SUM(G13:G18) -> 10 | H12: =(G12/B12) -> 0.83333333 | I12: =IF(H12>=0.5,"Đạt","Không đạt") -> Đạt
A13: + Có bằng tốt nghiệp đại học chuyên ngành hoặc đại học sư phạm chuyên ngành trở lên, phù hợp với ngành, nghề giảng dạy và có một trong các chứng chỉ kỹ năng nghề phù hợp với ngành, nghề giảng dạy để dạy thực hành trình độ cao đẳng sau: Chứng chỉ kỹ năng nghề quốc gia Bậc 3 hoặc chứng nhận bậc thợ 5/7, 4/6 trở lên hoặc bằng tốt nghiệp cao đẳng nghề hoặc chứng chỉ kỹ năng thực hành nghề trình độ cao đẳng nghề hoặc tương đương; | B13: 2 | C13: 2 | D13: 2 | E13: =(D13/B13) -> 1 | F13: Bằng Đại học chuyên ngành | G13: 2 | H13: =(G13/B13) -> 1 | I13: Bằng Đại học chuyên ngành
A14: + Nắm vững kiến thức ngành, nghề được phân công giảng dạy; | B14: 2 | C14: 2 | D14: 2 | E14: =(D14/B14) -> 1 | G14: 2 | H14: =(G14/B14) -> 1
A15: + Có kiến thức về ngành, nghề liên quan; | B15: 2 | C15: 2 | D15: 2 | E15: =(D15/B15) -> 1 | G15: 2 | H15: =(G15/B15) -> 1
A16: + Hiểu biết về thực tiễn nghề nghiệp, tiến bộ khoa học kỹ thuật, công nghệ mới và kỹ thuật an toàn, vệ sinh lao động của ngành, nghề được phân công giảng dạy | B16: 2 | C16: 2 | D16: 2 | E16: =(D16/B16) -> 1 | G16: 2 | H16: =(G16/B16) -> 1
A17: + Thực hiện thành thạo các kỹ năng của ngành, nghề được phân công giảng dạy | B17: 2 | C17: 2 | D17: 2 | E17: =(D17/B17) -> 1 | G17: 2 | H17: =(G17/B17) -> 1
A18: + Tổ chức thành thạo các hoạt động lao động sản xuất, dịch vụ ngành, nghề được phân công giảng dạy | B18: 2 | C18: 2 | D18: 2 | E18: =(D18/B18) -> 1 | G18: 0 | H18: =(G18/B18) -> 0
A19: - Tiêu chuẩn 2: Trình độ ngoại ngữ | B19: =SUM(B20:B21) -> 4 | C19: =SUM(C20:C21) -> 4 | D19: =SUM(D20:D21) -> 4 | E19: =(D19/B19) -> 1 | F19: =IF(E19>=0.5,"Đạt","Không đạt") -> Đạt | G19: =SUM(G20:G21) -> 4 | H19: =(G19/B19) -> 1 | I19: =IF(H19>=0.5,"Đạt","Không đạt") -> Đạt
A20: + Đối vối giáo viên, giảng viên không chuyên ngành ngoại ngữ: Có trình độ ngoại ngữ Bậc 2 (A2) theo quy định tại Thông tư số 01/2014/TT-BGDĐT ngày 24/01/2014 của Bộ Giáo dục và Đào tạo ban hành Khung năng lực ngoại ngữ 6 bậc dùng cho Việt Nam hoặc tương đương trở lên. + Đối với giáo viên, giảng viên chuyên ngành ngoại ngữ (giáo viên, giảng viên tổ Anh văn thuộc Khoa KHCB): Có trình độ ngoại ngữ Bậc 5 (C1) theo quy định tại Thông tư số 01/2014/TT-BGDĐT ngày 24/01/2014 của Bộ Giáo dục và Đào tạo ban hành Khung năng lực ngoại ngữ 6 bậc dùng cho Việt Nam hoặc tương đương trở lên. Và trình độ ngoại ngữ thứ hai phải đạt Bậc 2 (A2) theo quy định tại Thông tư số 01/2014/TT-BGDĐT. | B20: 2 | C20: 2 | D20: 2 | E20: =(D20/B20) -> 1 | G20: 2 | H20: =(G20/B20) -> 1 | I20: CEFR: C1 Chứng chỉ Tiếng Hoa HSK Level 3
A21: + Đọc và hiểu tài liệu chuyên ngành phục vụ công tác giảng dạy; mô tả được một số công việc cơ bản của ngành, nghề được phân công giảng dạy. | B21: 2 | C21: 2 | D21: 2 | E21: =(D21/B21) -> 1 | G21: 2 | H21: =(G21/B21) -> 1
A22: - Tiêu chuẩn 3: Trình độ tin học | B22: =SUM(B23:B24) -> 4 | C22: =SUM(C23:C24) -> 4 | D22: =SUM(D23:D24) -> 4 | E22: =(D22/B22) -> 1 | F22: =IF(E22>=0.5,"Đạt","Không đạt") -> Đạt | G22: =SUM(G23:G24) -> 4 | H22: =(G22/B22) -> 1 | I22: =IF(H22>=0.5,"Đạt","Không đạt") -> Đạt
A23: + Có trình độ tin học đạt Chuẩn kỹ năng sử dụng công nghệ thông tin cơ bản theo quy định tại Thông tư số 03/2014/TT-BTTTT ngày 11/3/2014 của Bộ Thông tin và Truyền thông quy định Chuẩn kỹ năng sử dụng công nghệ thông tin hoặc tương đương trở lên. | B23: 2 | C23: 2 | D23: 2 | E23: =(D23/B23) -> 1 | G23: 2 | H23: =(G23/B23) -> 1 | I23: Chứng chỉ A Tin học
A24: + Sử dụng thành thạo phần mềm dạy học chuyên ngành để thiết kế bài giảng, tài liệu giảng dạy. | B24: 2 | C24: 2 | D24: 2 | E24: =(D24/B24) -> 1 | G24: 2 | H24: =(G24/B24) -> 1
A25: Tiêu chí 2 về Năng lực sư phạm | B25: =SUM(B26,B29,B36,B41,B44,B47,B50,B55,B58) -> 52 | C25: =SUM(C26,C29,C36,C41,C44,C47,C50,C55,C58) -> 52 | D25: =SUM(D26,D29,D36,D41,D44,D47,D50,D55,D58) -> 46 | E25: =(D25/B25) -> 0.88461538 | F25: =IF(E25>=0.5,"Đạt","Không đạt") -> Đạt | G25: =SUM(G26,G29,G36,G41,G44,G47,G50,G55,G58) -> 38 | H25: =(G25/B25) -> 0.73076923 | I25: =IF(H25>=0.5,"Đạt","Không đạt") -> Đạt
A26: - Tiêu chuẩn 1 về Trình độ nghiệp vụ sư phạm và thời gian tham gia giảng dạy | B26: =SUM(B27:B28) -> 4 | C26: =SUM(C27:C28) -> 4 | D26: =SUM(D27:D28) -> 4 | E26: =(D26/B26) -> 1 | F26: =IF(E26>=0.5,"Đạt","Không đạt") -> Đạt | G26: =SUM(G27:G28) -> 4 | H26: =(G26/B26) -> 1 | I26: =IF(H26>=0.5,"Đạt","Không đạt") -> Đạt
A27: + Có chứng chỉ sư phạm dạy nghề dạy trình độ trung cấp nghề, cao đẳng nghề hoặc chứng chỉ bồi dưỡng nghiệp vụ sư phạm cho giảng viên đại học, cao đẳng hoặc bằng tốt nghiệp đại học chuyên ngành sư phạm hoặc chứng chỉ nghiệp vụ sư phạm dạy trình độ cao đẳng hoặc tương đương. | B27: 2 | C27: 2 | D27: 2 | E27: =(D27/B27) -> 1 | G27: 2 | H27: =(G27/B27) -> 1
A28: + Có thời gian tham gia giảng dạy ít nhất 12 tháng. | B28: 2 | C28: 2 | D28: 2 | E28: =(D28/B28) -> 1 | G28: 2 | H28: =(G28/B28) -> 1
A29: - Tiêu chuẩn 2: Chuẩn bị hoạt động giảng dạy | B29: =SUM(B30:B35) -> 12 | C29: =SUM(C30:C35) -> 12 | D29: =SUM(D30:D35) -> 12 | E29: =(D29/B29) -> 1 | F29: =IF(E29>=0.5,"Đạt","Không đạt") -> Đạt | G29: =SUM(G30:G35) -> 6 | H29: =(G29/B29) -> 0.5 | I29: =IF(H29>=0.5,"Đạt","Không đạt") -> Đạt
A30: + Lập được kế hoạch giảng dạy môn học, mô-đun được phân công trên cơ sở chương trình, kế hoạch đào tạo của cả khóa học. | B30: 2 | C30: 2 | D30: 2 | E30: =(D30/B30) -> 1 | G30: 2 | H30: =(G30/B30) -> 1
A31: + Soạn giáo án theo quy định, thể hiện được các hoạt động dạy và học. | B31: 2 | C31: 2 | D31: 2 | E31: =(D31/B31) -> 1 | G31: 2 | H31: =(G31/B31) -> 1
A32: + Lựa chọn phương pháp dạy học phù hợp cho các bài học của chương trình môn học, mô-đun được phân công giảng dạy. | B32: 2 | C32: 2 | D32: 2 | E32: =(D32/B32) -> 1 | G32: 2 | H32: =(G32/B32) -> 1
A33: + Chuẩn bị đầy đủ các phương tiện dạy học, thiết bị, nguyên, nhiên, vật liệu thực hành cần thiết | B33: 2 | C33: 2 | D33: 2 | E33: =(D33/B33) -> 1 | G33: 0 | H33: =(G33/B33) -> 0
A34: + Tự làm các thiết bị dạy học đơn giản để phục vụ giảng dạy | B34: 2 | C34: 2 | D34: 2 | E34: =(D34/B34) -> 1 | G34: 0 | H34: =(G34/B34) -> 0
A35: + Chủ trì hoặc tham gia thiết kế và bố trí trang thiết bị dạy học của phòng học chuyên môn phù hợp với chương trình của ngành, nghề được phân công giảng dạy. | B35: 2 | C35: 2 | D35: 2 | E35: =(D35/B35) -> 1 | G35: 0 | H35: =(G35/B35) -> 0
A36: - Tiêu chuẩn 3: Thực hiện hoạt động giảng dạy | B36: 8 | C36: =SUM(C37:C40) -> 8 | D36: =SUM(D37:D40) -> 8 | E36: =(D36/B36) -> 1 | F36: =IF(E36>=0.5,"Đạt","Không đạt") -> Đạt | G36: =SUM(G37:G40) -> 6 | H36: =(G36/B36) -> 0.75 | I36: =IF(H36>=0.5,"Đạt","Không đạt") -> Đạt
A37: + Tổ chức dạy học phù hợp với ngành, nghề đào tạo và với từng đối tượng người học; thực hiện đầy đủ kế hoạch giảng dạy, đúng chương trình, nội dung. | B37: 2 | C37: 2 | D37: 2 | E37: =(D37/B37) -> 1 | G37: 2 | H37: =(G37/B37) -> 1
A38: + Thực hiện các giờ dạy lý thuyết, thực hành, tích hợp theo quy định | B38: 2 | C38: 2 | D38: 2 | E38: =(D38/B38) -> 1 | G38: 2 | H38: =(G38/B38) -> 1
A39: + Vận dụng, kết hợp các phương pháp dạy học để phát huy tính tích cực, sáng tạo, phát triển năng lực tự học của người học | B39: 2 | C39: 2 | D39: 2 | E39: =(D39/B39) -> 1 | G39: 2 | H39: =(G39/B39) -> 1
A40: + Sử dụng thành thạo các phương tiện, thiết bị dạy học để nâng cao hiệu quả giảng dạy, đảm bảo chất lượng giáo dục nghề nghiệp | B40: 2 | C40: 2 | D40: 2 | E40: =(D40/B40) -> 1 | G40: 0 | H40: =(G40/B40) -> 0
A41: - Tiêu chuẩn 4: Kiểm tra, đánh giá kết quả học tập của người học | B41: =SUM(B42:B43) -> 4 | C41: =SUM(C42:C43) -> 4 | D41: =SUM(D42:D43) -> 4 | E41: =(D41/B41) -> 1 | F41: =IF(E41>=0.5,"Đạt","Không đạt") -> Đạt | G41: =SUM(G42:G43) -> 4 | H41: =(G41/B41) -> 1 | I41: =IF(H41>=0.5,"Đạt","Không đạt") -> Đạt
...

Sheet mau_00
A1: TRƯỜNG CAO ĐẲNG LÝ TỰ TRỌNG TP. HỒ CHÍ MINH | G1: CỘNG HÒA XÃ HỘI CHỦ NGHĨA VIỆT NAM
A2: KHOA KHOA HỌC CƠ BẢN | G2: Độc lập - Tự do - Hạnh phúc
A4: PHIẾU ĐÁNH GIÁ, XẾP LOẠI CHUYÊN MÔN, NGHIỆP VỤ CỦA NHÀ GIÁO
A5: Năm học: 2017-2018
A6: Họ và tên: ĐINH TRẦN PHƯƠNG THẢO
A7: Khoa, tổ bộ môn: Khoa Khoa học Cơ bản; Bộ môn Anh văn
A8: Cấp trình độ giảng dạy: Trung cấp và Cao đẳng
A9: Các tiêu chí và tiêu chuẩn | B9: Điểm tối đa | C9: Điểm tối đa | D9: Nhà giáo tự đánh giá xếp loại | G9: Khoa đánh giá, xếp loại
D10: Điểm đánh giá đạt được (Nhà giáo tự cho điểm) | E10: Tỷ lệ % của điểm đánh giá đạt được so với điểm đánh giá tối đa của mỗi tiêu chuẩn | F10: Các minh chứng (Nhà giáo nhập minh chứng ở cột này; Mỗi tiêu chuẩn cho điểm phải có minh chứng) | G10: Điểm đánh giá đạt được (Dành cho Trưởng khoa) | H10: Tỷ lệ % của điểm đánh giá đạt được so với điểm đánh giá tối đa của mỗi tiêu chuẩn | I10: Các minh chứng (Khoa nhập minh chứng ở cột này; Mỗi tiêu chuẩn cho điểm phải có minh chứng)
A11: ='ĐÁNH GIÁ GV_mau_01'!A11 -> Tiêu chí 1 về Năng lực chuyên môn | B11: ='ĐÁNH GIÁ GV_mau_01'!B11 -> 20 | C11: =SUM(C12,C13,C16) -> #REF! | D11: ='ĐÁNH GIÁ GV_mau_01'!D11 -> 20 | E11: =(D11/B11) -> 1 | F11: ='ĐÁNH GIÁ GV_mau_01'!F11 -> Đạt | G11: ='ĐÁNH GIÁ GV_mau_01'!G11 -> 18 | H11: ='ĐÁNH GIÁ GV_mau_01'!H11 -> 0.9 | I11: ='ĐÁNH GIÁ GV_mau_01'!I11 -> Đạt
A12: ='ĐÁNH GIÁ GV_mau_01'!A12 -> - Tiêu chuẩn 1: Trình độ chuyên môn | B12: ='ĐÁNH GIÁ GV_mau_01'!B12 -> 12 | C12: =SUM(#REF!) -> #REF! | D12: ='ĐÁNH GIÁ GV_mau_01'!D12 -> 12 | E12: ='ĐÁNH GIÁ GV_mau_01'!E12 -> 1 | F12: ='ĐÁNH GIÁ GV_mau_01'!F12 -> Đạt | G12: ='ĐÁNH GIÁ GV_mau_01'!G12 -> 10 | H12: ='ĐÁNH GIÁ GV_mau_01'!H12 -> 0.83333333 | I12: ='ĐÁNH GIÁ GV_mau_01'!I12 -> Đạt
A13: ='ĐÁNH GIÁ GV_mau_01'!A19 -> - Tiêu chuẩn 2: Trình độ ngoại ngữ | B13: ='ĐÁNH GIÁ GV_mau_01'!B19 -> 4 | C13: =SUM(C14:C15) -> 4 | D13: ='ĐÁNH GIÁ GV_mau_01'!D19 -> 4 | E13: ='ĐÁNH GIÁ GV_mau_01'!E19 -> 1 | F13: ='ĐÁNH GIÁ GV_mau_01'!F19 -> Đạt | G13: ='ĐÁNH GIÁ GV_mau_01'!G19 -> 4 | H13: ='ĐÁNH GIÁ GV_mau_01'!H19 -> 1 | I13: ='ĐÁNH GIÁ GV_mau_01'!I19 -> Đạt
A14: ='ĐÁNH GIÁ GV_mau_01'!A22 -> - Tiêu chuẩn 3: Trình độ tin học | B14: 2 | C14: 2 | D14: 2 | E14: =(D14/B14) -> 1 | G14: 2 | H14: =(G14/B14) -> 1 | I14: CEFR: C1 Chứng chỉ Tiếng Hoa HSK Level 3
A15: + Đọc và hiểu tài liệu chuyên ngành phục vụ công tác giảng dạy; mô tả được một số công việc cơ bản của ngành, nghề được phân công giảng dạy. | B15: 2 | C15: 2 | D15: 2 | E15: =(D15/B15) -> 1 | G15: 2 | H15: =(G15/B15) -> 1
A16: - Tiêu chuẩn 3: Trình độ tin học | B16: =SUM(B17:B18) -> 4 | C16: =SUM(C17:C18) -> 4 | D16: =SUM(D17:D18) -> 4 | E16: =(D16/B16) -> 1 | F16: =IF(E16>=0.5,"Đạt","Không đạt") -> Đạt | G16: =SUM(G17:G18) -> 4 | H16: =(G16/B16) -> 1 | I16: =IF(H16>=0.5,"Đạt","Không đạt") -> Đạt
A17: + Có trình độ tin học đạt Chuẩn kỹ năng sử dụng công nghệ thông tin cơ bản theo quy định tại Thông tư số 03/2014/TT-BTTTT ngày 11/3/2014 của Bộ Thông tin và Truyền thông quy định Chuẩn kỹ năng sử dụng công nghệ thông tin hoặc tương đương trở lên. | B17: 2 | C17: 2 | D17: 2 | E17: =(D17/B17) -> 1 | G17: 2 | H17: =(G17/B17) -> 1 | I17: Chứng chỉ A Tin học
A18: + Sử dụng thành thạo phần mềm dạy học chuyên ngành để thiết kế bài giảng, tài liệu giảng dạy. | B18: 2 | C18: 2 | D18: 2 | E18: =(D18/B18) -> 1 | G18: 2 | H18: =(G18/B18) -> 1
A19: Tiêu chí 2 về Năng lực sư phạm | B19: =SUM(B20,B23,B30,B35,B38,B41,B44,B49,B52) -> 52 | C19: =SUM(C20,C23,C30,C35,C38,C41,C44,C49,C52) -> 52 | D19: =SUM(D20,D23,D30,D35,D38,D41,D44,D49,D52) -> 46 | E19: =(D19/B19) -> 0.88461538 | F19: =IF(E19>=0.5,"Đạt","Không đạt") -> Đạt | G19: =SUM(G20,G23,G30,G35,G38,G41,G44,G49,G52) -> 38 | H19: =(G19/B19) -> 0.73076923 | I19: =IF(H19>=0.5,"Đạt","Không đạt") -> Đạt
A20: - Tiêu chuẩn 1 về Trình độ nghiệp vụ sư phạm và thời gian tham gia giảng dạy | B20: =SUM(B21:B22) -> 4 | C20: =SUM(C21:C22) -> 4 | D20: =SUM(D21:D22) -> 4 | E20: =(D20/B20) -> 1 | F20: =IF(E20>=0.5,"Đạt","Không đạt") -> Đạt | G20: =SUM(G21:G22) -> 4 | H20: =(G20/B20) -> 1 | I20: =IF(H20>=0.5,"Đạt","Không đạt") -> Đạt
A21: + Có chứng chỉ sư phạm dạy nghề dạy trình độ trung cấp nghề, cao đẳng nghề hoặc chứng chỉ bồi dưỡng nghiệp vụ sư phạm cho giảng viên đại học, cao đẳng hoặc bằng tốt nghiệp đại học chuyên ngành sư phạm hoặc chứng chỉ nghiệp vụ sư phạm dạy trình độ cao đẳng hoặc tương đương. | B21: 2 | C21: 2 | D21: 2 | E21: =(D21/B21) -> 1 | G21: 2 | H21: =(G21/B21) -> 1
A22: + Có thời gian tham gia giảng dạy ít nhất 12 tháng. | B22: 2 | C22: 2 | D22: 2 | E22: =(D22/B22) -> 1 | G22: 2 | H22: =(G22/B22) -> 1
A23: - Tiêu chuẩn 2: Chuẩn bị hoạt động giảng dạy | B23: =SUM(B24:B29) -> 12 | C23: =SUM(C24:C29) -> 12 | D23: =SUM(D24:D29) -> 12 | E23: =(D23/B23) -> 1 | F23: =IF(E23>=0.5,"Đạt","Không đạt") -> Đạt | G23: =SUM(G24:G29) -> 6 | H23: =(G23/B23) -> 0.5 | I23: =IF(H23>=0.5,"Đạt","Không đạt") -> Đạt
A24: + Lập được kế hoạch giảng dạy môn học, mô-đun được phân công trên cơ sở chương trình, kế hoạch đào tạo của cả khóa học. | B24: 2 | C24: 2 | D24: 2 | E24: =(D24/B24) -> 1 | G24: 2 | H24: =(G24/B24) -> 1
A25: + Soạn giáo án theo quy định, thể hiện được các hoạt động dạy và học. | B25: 2 | C25: 2 | D25: 2 | E25: =(D25/B25) -> 1 | G25: 2 | H25: =(G25/B25) -> 1
A26: + Lựa chọn phương pháp dạy học phù hợp cho các bài học của chương trình môn học, mô-đun được phân công giảng dạy. | B26: 2 | C26: 2 | D26: 2 | E26: =(D26/B26) -> 1 | G26: 2 | H26: =(G26/B26) -> 1
A27: + Chuẩn bị đầy đủ các phương tiện dạy học, thiết bị, nguyên, nhiên, vật liệu thực hành cần thiết | B27: 2 | C27: 2 | D27: 2 | E27: =(D27/B27) -> 1 | G27: 0 | H27: =(G27/B27) -> 0
A28: + Tự làm các thiết bị dạy học đơn giản để phục vụ giảng dạy | B28: 2 | C28: 2 | D28: 2 | E28: =(D28/B28) -> 1 | G28: 0 | H28: =(G28/B28) -> 0
A29: + Chủ trì hoặc tham gia thiết kế và bố trí trang thiết bị dạy học của phòng học chuyên môn phù hợp với chương trình của ngành, nghề được phân công giảng dạy. | B29: 2 | C29: 2 | D29: 2 | E29: =(D29/B29) -> 1 | G29: 0 | H29: =(G29/B29) -> 0
A30: - Tiêu chuẩn 3: Thực hiện hoạt động giảng dạy | B30: 8 | C30: =SUM(C31:C34) -> 8 | D30: =SUM(D31:D34) -> 8 | E30: =(D30/B30) -> 1 | F30: =IF(E30>=0.5,"Đạt","Không đạt") -> Đạt | G30: =SUM(G31:G34) -> 6 | H30: =(G30/B30) -> 0.75 | I30: =IF(H30>=0.5,"Đạt","Không đạt") -> Đạt
A31: + Tổ chức dạy học phù hợp với ngành, nghề đào tạo và với từng đối tượng người học; thực hiện đầy đủ kế hoạch giảng dạy, đúng chương trình, nội dung. | B31: 2 | C31: 2 | D31: 2 | E31: =(D31/B31) -> 1 | G31: 2 | H31: =(G31/B31) -> 1
A32: + Thực hiện các giờ dạy lý thuyết, thực hành, tích hợp theo quy định | B32: 2 | C32: 2 | D32: 2 | E32: =(D32/B32) -> 1 | G32: 2 | H32: =(G32/B32) -> 1
A33: + Vận dụng, kết hợp các phương pháp dạy học để phát huy tính tích cực, sáng tạo, phát triển năng lực tự học của người học | B33: 2 | C33: 2 | D33: 2 | E33: =(D33/B33) -> 1 | G33: 2 | H33: =(G33/B33) -> 1
A34: + Sử dụng thành thạo các phương tiện, thiết bị dạy học để nâng cao hiệu quả giảng dạy, đảm bảo chất lượng giáo dục nghề nghiệp | B34: 2 | C34: 2 | D34: 2 | E34: =(D34/B34) -> 1 | G34: 0 | H34: =(G34/B34) -> 0
A35: - Tiêu chuẩn 4: Kiểm tra, đánh giá kết quả học tập của người học | B35: =SUM(B36:B37) -> 4 | C35: =SUM(C36:C37) -> 4 | D35: =SUM(D36:D37) -> 4 | E35: =(D35/B35) -> 1 | F35: =IF(E35>=0.5,"Đạt","Không đạt") -> Đạt | G35: =SUM(G36:G37) -> 4 | H35: =(G35/B35) -> 1 | I35: =IF(H35>=0.5,"Đạt","Không đạt") -> Đạt
A36: + Lựa chọn và thiết kế các công cụ kiểm tra, đánh giá kết quả học tập của người học phù hợp với môn học, mô-đun được phân công giảng dạy. | B36: 2 | C36: 2 | D36: 2 | E36: =(D36/B36) -> 1 | G36: 2 | H36: =(G36/B36) -> 1
A37: + Thực hiện việc kiểm tra, đánh giá toàn diện, chính xác, mang tính giáo dục và đúng quy định; sử dụng kết quả kiểm tra, đánh giá để điều chỉnh hoạt động dạy và học | B37: 2 | C37: 2 | D37: 2 | E37: =(D37/B37) -> 1 | G37: 2 | H37: =(G37/B37) -> 1
A38: - Tiêu chuẩn 5: Quản lý hồ sơ dạy học | B38: =SUM(B39:B40) -> 4 | C38: =SUM(C39:C40) -> 4 | D38: =SUM(D39:D40) -> 4 | E38: =(D38/B38) -> 1 | F38: =IF(E38>=0.5,"Đạt","Không đạt") -> Đạt | G38: =SUM(G39:G40) -> 4 | H38: =(G38/B38) -> 1 | I38: =IF(H38>=0.5,"Đạt","Không đạt") -> Đạt
A39: + Thực hiện đầy đủ các quy định về sử dụng biểu mẫu, sổ sách, hồ sơ dạy học. | B39: 2 | C39: 2 | D39: 2 | E39: =(D39/B39) -> 1 | G39: 2 | H39: =(G39/B39) -> 1
A40: + Bảo quản, lưu trữ, sử dụng hồ sơ dạy học theo quy định | B40: 2 | C40: 2 | D40: 2 | E40: =(D40/B40) -> 1 | G40: 2 | H40: =(G40/B40) -> 1
A41: - Tiêu chuẩn 6: Xây dựng chương trình, biên soạn giáo trình, tài liệu giảng dạy | B41: =SUM(B42:B43) -> 4 | C41: =SUM(C42:C43) -> 4 | D41: =SUM(D42:D43) -> 4 | E41: =(D41/B41) -> 1 | F41: =IF(E41>=0.5,"Đạt","Không đạt") -> Đạt | G41: =SUM(G42:G43) -> 4 | H41: =(G41/B41) -> 1 | I41: =IF(H41>=0.5,"Đạt","Không đạt") -> Đạt
...
