Workbook

Sheet ĐÁNH GIÁ GV_mau_01
A1: TRƯỜNG CAO ĐẲNG LÝ TỰ TRỌNG TP. HỒ CHÍ MINH | G1: CỘNG HÒA XÃ HỘI CHỦ NGHĨA VIỆT NAM
A2: KHOA KHOA HỌC CƠ BẢN | G2: Độc lập - Tự do - Hạnh phúc
A4: PHIẾU ĐÁNH GIÁ, XẾP LOẠI CHUYÊN MÔN, NGHIỆP VỤ CỦA NHÀ GIÁO
A5: Năm học: 2017-2018
A6: Họ và tên: | B6: ĐINH TRẦN PHƯƠNG THẢO
A7: Khoa, tổ bộ môn: | B7: Khoa Khoa học Cơ bản; Bộ môn Anh văn
A8: Cấp trình độ giảng dạy: | D8: Trung cấp và Cao đẳng
A9: Các tiêu chí và tiêu chuẩn | B9: Điểm tối đa | C9: Điểm tối đa | D9: Nhà giáo tự đánh giá xếp loại | G9: Khoa đánh giá, xếp loại
D10: Điểm đánh giá đạt được (Nhà giáo tự cho điểm) | E10: Tỷ lệ % của điểm đánh giá đạt được so với điểm đánh giá tối đa của mỗi tiêu chuẩn | F10: Các minh chứng (Nhà giáo nhập minh chứng ở cột này; Mỗi tiêu chuẩn cho điểm phải có minh chứng) | G10: Điểm đánh giá đạt được (Dành cho Trưởng khoa) | H10: Tỷ lệ % của điểm đánh giá đạt được so với điểm đánh giá tối đa của mỗi tiêu chuẩn | I10: Các minh chứng (Khoa nhập minh chứng ở cột này; Mỗi tiêu chuẩn cho điểm phải có minh chứng)
A11: Tiêu chí 1 về Năng lực chuyên môn | B11: =SUM(B12,B19,B22) -> 20 | C11: =SUM(C12,C19,C22) -> 20 | D11: =SUM(D12,D22,D19) -> 20 | E11: =(D11/B11) -> 1 | F11: =IF(E11>=0.5,"Đạt","Không đạt") -> Đạt | G11: =SUM(G12,G19,G22) -> 18 | H11: =(G11/B11) -> 0.9 | I11: =IF(H11>=0.5,"Đạt","Không đạt") -> Đạt
A12: - Tiêu chuẩn 1: Trình độ chuyên môn | B12: =SUM(B13:B18) -> 12 | C12: =SUM(C13:C18) -> 12 | D12: =SUM(D13:D18) -> 12 | E12: =(D12/B12) -> 1 | F12: =IF(E12>=0.5,"Đạt"," Không đạt") -> Đạt | G12: =SUM(G13:G18) -> 10 | H12: =(G12/B12) -> 0.83333333 | I12: =IF(H12>=0.5,"Đạt","Không đạt") -> Đạt
A13: + Có bằng tốt nghiệp đại học chuyên ngành hoặc đại học sư phạm chuyên ngành trở lên, phù hợp với ngành, nghề giảng dạy và có một trong các chứng chỉ kỹ năng nghề phù hợp với ngành, nghề giảng dạy để dạy thực hành trình độ cao đẳng sau: Chứng chỉ kỹ năng nghề quốc gia Bậc 3 hoặc chứng nhận bậc thợ 5/7, 4/6 trở lên hoặc bằng tốt nghiệp cao đẳng nghề hoặc chứng chỉ kỹ năng thực hành nghề trình độ cao đẳng nghề hoặc tương đương; | B13: 2 | C13: 2 | D13: 2 | E13: =(D13/B13) -> 1 | F13: Bằng Đại học chuyên ngành | G13: 2 | H13: =(G13/B13) -> 1 | I13: Bằng Đại học chuyên ngành
A14: + Nắm vững kiến thức ngành, nghề được phân công giảng dạy; | B14: 2 | C14: 2 | D14: 2 | E14: =(D14/B14) -> 1 | G14: 2 | H14: =(G14/B14) -> 1
A15: + Có kiến thức về ngành, nghề liên quan; | B15: 2 | C15: 2 | D15: 2 | E15: =(D15/B15) -> 1 | G15: 2 | H15: =(G15/B15) -> 1
A16: + Hiểu biết về thực tiễn nghề nghiệp, tiến bộ khoa học kỹ thuật, công nghệ mới và kỹ thuật an toàn, vệ sinh lao động của ngành, nghề được phân công giảng dạy | B16: 2 | C16: 2 | D16: 2 | E16: =(D16/B16) -> 1 | G16: 2 | H16: =(G16/B16) -> 1
A17: + Thực hiện thành thạo các kỹ năng của ngành, nghề được phân công giảng dạy | B17: 2 | C17: 2 | D17: 2 | E17: =(D17/B17) -> 1 | G17: 2 | H17: =(G17/B17) -> 1
A18: + Tổ chức thành thạo các hoạt động lao động sản xuất, dịch vụ ngành, nghề được phân công giảng dạy | B18: 2 | C18: 2 | D18: 2 | E18: =(D18/B18) -> 1 | G18: 0 | H18: =(G18/B18) -> 0
A19: - Tiêu chuẩn 2: Trình độ ngoại ngữ | B19: =SUM(B20:B21) -> 4 | C19: =SUM(C20:C21) -> 4 | D19: =SUM(D20:D21) -> 4 | E19: =(D19/B19) -> 1 | F19: =IF(E19>=0.5,"Đạt","Không đạt") -> Đạt | G19: =SUM(G20:G21) -> 4 | H19: =(G19/B19) -> 1 | I19: =IF(H19>=0.5,"Đạt","Không đạt") -> Đạt
A20: + Đối vối giáo viên, giảng viên không chuyên ngành ngoại ngữ: Có trình độ ngoại ngữ Bậc 2 (A2) theo quy định tại Thông tư số 01/2014/TT-BGDĐT ngày 24/01/2014 của Bộ Giáo dục và Đào tạo ban hành Khung năng lực ngoại ngữ 6 bậc dùng cho Việt Nam hoặc tương đương trở lên. + Đối với giáo viên, giảng viên chuyên ngành ngoại ngữ (giáo viên, giảng viên tổ Anh văn thuộc Khoa KHCB): Có trình độ ngoại ngữ Bậc 5 (C1) theo quy định tại Thông tư số 01/2014/TT-BGDĐT ngày 24/01/2014 của Bộ Giáo dục và Đào tạo ban hành Khung năng lực ngoại ngữ 6 bậc dùng cho Việt Nam hoặc tương đương trở lên. Và trình độ ngoại ngữ thứ hai phải đạt Bậc 2 (A2) theo quy định tại Thông tư số 01/2014/TT-BGDĐT. | B20: 2 | C20: 2 | D20: 2 | E20: =(D20/B20) -> 1 | G20: 2 | H20: =(G20/B20) -> 1 | I20: CEFR: C1 Chứng chỉ Tiếng Hoa HSK Level 3
A21: + Đọc và hiểu tài liệu chuyên ngành phục vụ công tác giảng dạy; mô tả được một số công việc cơ bản của ngành, nghề được phân công giảng dạy. | B21: 2 | C21: 2 | D21: 2 | E21: =(D21/B21) -> 1 | G21: 2 | H21: =(G21/B21) -> 1
A22: - Tiêu chuẩn 3: Trình độ tin học | B22: =SUM(B23:B24) -> 4 | C22: =SUM(C23:C24) -> 4 | D22: =SUM(D23:D24) -> 4 | E22: =(D22/B22) -> 1 | F22: =IF(E22>=0.5,"Đạt","Không đạt") -> Đạt | G22: =SUM(G23:G24) -> 4 | H22: =(G22/B22) -> 1 | I22: =IF(H22>=0.5,"Đạt","Không đạt") -> Đạt
A23: + Có trình độ tin học đạt Chuẩn kỹ năng sử dụng công nghệ thông tin cơ bản theo quy định tại Thông tư số 03/2014/TT-BTTTT ngày 11/3/2014 của Bộ Thông tin và Truyền thông quy định Chuẩn kỹ năng sử dụng công nghệ thông tin hoặc tương đương trở lên. | B23: 2 | C23: 2 | D23: 2 | E23: =(D23/B23) -> 1 | G23: 2 | H23: =(G23/B23) -> 1 | I23: Chứng chỉ A Tin học
A24: + Sử dụng thành thạo phần mềm dạy học chuyên ngành để thiết kế bài giảng, tài liệu giảng dạy. | B24: 2 | C24: 2 | D24: 2 | E24: =(D24/B24) -> 1 | G24: 2 | H24: =(G24/B24) -> 1
A25: Tiêu chí 2 về Năng lực sư phạm | B25: =SUM(B26,B29,B36,B41,B44,B47,B50,B55,B58) -> 52 | C25: =SUM(C26,C29,C36,C41,C44,C47,C50,C55,C58) -> 52 | D25: =SUM(D26,D29,D36,D41,D44,D47,D50,D55,D58) -> 46 | E25: =(D25/B25) -> 0.88461538 | F25: =IF(E25>=0.5,"Đạt","Không đạt") -> Đạt | G25: =SUM(G26,G29,G36,G41,G44,G47,G50,G55,G58) -> 38 | H25: =(G25/B25) -> 0.73076923 | I25: =IF(H25>=0.5,"Đạt","Không đạt") -> Đạt
A26: - Tiêu chuẩn 1 về Trình độ nghiệp vụ sư phạm và thời gian tham gia giảng dạy | B26: =SUM(B27:B28) -> 4 | C26: =SUM(C27:C28) -> 4 | D26: =SUM(D27:D28) -> 4 | E26: =(D26/B26) -> 1 | F26: =IF(E26>=0.5,"Đạt","Không đạt") -> Đạt | G26: =SUM(G27:G28) -> 4 | H26: =(G26/B26) -> 1 | I26: =IF(H26>=0.5,"Đạt","Không đạt") -> Đạt
A27: + Có chứng chỉ sư phạm dạy nghề dạy trình độ trung cấp nghề, cao đẳng nghề hoặc chứng chỉ bồi dưỡng nghiệp vụ sư phạm cho giảng viên đại học, cao đẳng hoặc bằng tốt nghiệp đại học chuyên ngành sư phạm hoặc chứng chỉ nghiệp vụ sư phạm dạy trình độ cao đẳng hoặc tương đương. | B27: 2 | C27: 2 | D27: 2 | E27: =(D27/B27) -> 1 | G27: 2 | H27: =(G27/B27) -> 1
A28: + Có thời gian tham gia giảng dạy ít nhất 12 tháng. | B28: 2 | C28: 2 | D28: 2 | E28: =(D28/B28) -> 1 | G28: 2 | H28: =(G28/B28) -> 1
A29: - Tiêu chuẩn 2: Chuẩn bị hoạt động giảng dạy | B29: =SUM(B30:B35) -> 12 | C29: =SUM(C30:C35) -> 12 | D29: =SUM(D30:D35) -> 12 | E29: =(D29/B29) -> 1 | F29: =IF(E29>=0.5,"Đạt","Không đạt") -> Đạt | G29: =SUM(G30:G35) -> 6 | H29: =(G29/B29) -> 0.5 | I29: =IF(H29>=0.5,"Đạt","Không đạt") -> Đạt
A30: + Lập được kế hoạch giảng dạy môn học, mô-đun được phân công trên cơ sở chương trình, kế hoạch đào tạo của cả khóa học. | B30: 2 | C30: 2 | D30: 2 | E30: =(D30/B30) -> 1 | G30: 2 | H30: =(G30/B30) -> 1
A31: + Soạn giáo án theo quy định, thể hiện được các hoạt động dạy và học. | B31: 2 | C31: 2 | D31: 2 | E31: =(D31/B31) -> 1 | G31: 2 | H31: =(G31/B31) -> 1
A32: + Lựa chọn phương pháp dạy học phù hợp cho các bài học của chương trình môn học, mô-đun được phân công giảng dạy. | B32: 2 | C32: 2 | D32: 2 | E32: =(D32/B32) -> 1 | G32: 2 | H32: =(G32/B32) -> 1
A33: + Chuẩn bị đầy đủ các phương tiện dạy học, thiết bị, nguyên, nhiên, vật liệu thực hành cần thiết | B33: 2 | C33: 2 | D33: 2 | E33: =(D33/B33) -> 1 | G33: 0 | H33: =(G33/B33) -> 0
A34: + Tự làm các thiết bị dạy học đơn giản để phục vụ giảng dạy | B34: 2 | C34: 2 | D34: 2 | E34: =(D34/B34) -> 1 | G34: 0 | H34: =(G34/B34) -> 0
A35: + Chủ trì hoặc tham gia thiết kế và bố trí trang thiết bị dạy học của phòng học chuyên môn phù hợp với chương trình của ngành, nghề được phân công giảng dạy. | B35: 2 | C35: 2 | D35: 2 | E35: =(D35/B35) -> 1 | G35: 0 | H35: =(G35/B35) -> 0
A36: - Tiêu chuẩn 3: Thực hiện hoạt động giảng dạy | B36: 8 | C36: =SUM(C37:C40) -> 8 | D36: =SUM(D37:D40) -> 8 | E36: =(D36/B36) -> 1 | F36: =IF(E36>=0.5,"Đạt","Không đạt") -> Đạt | G36: =SUM(G37:G40) -> 6 | H36: =(G36/B36) -> 0.75 | I36: =IF(H36>=0.5,"Đạt","Không đạt") -> Đạt
A37: + Tổ chức dạy học phù hợp với ngành, nghề đào tạo và với từng đối tượng người học; thực hiện đầy đủ kế hoạch giảng dạy, đúng chương trình, nội dung. | B37: 2 | C37: 2 | D37: 2 | E37: =(D37/B37) -> 1 | G37: 2 | H37: =(G37/B37) -> 1
A38: + Thực hiện các giờ dạy lý thuyết, thực hành, tích hợp theo quy định | B38: 2 | C38: 2 | D38: 2 | E38: =(D38/B38) -> 1 | G38: 2 | H38: =(G38/B38) -> 1
A39: + Vận dụng, kết hợp các phương pháp dạy học để phát huy tính tích cực, sáng tạo, phát triển năng lực tự học của người học | B39: 2 | C39: 2 | D39: 2 | E39: =(D39/B39) -> 1 | G39: 2 | H39: =(G39/B39) -> 1
A40: + Sử dụng thành thạo các phương tiện, thiết bị dạy học để nâng cao hiệu quả giảng dạy, đảm bảo chất lượng giáo dục nghề nghiệp | B40: 2 | C40: 2 | D40: 2 | E40: =(D40/B40) -> 1 | G40: 0 | H40: =(G40/B40) -> 0
A41: - Tiêu chuẩn 4: Kiểm tra, đánh giá kết quả học tập của người học | B41: =SUM(B42:B43) -> 4 | C41: =SUM(C42:C43) -> 4 | D41: =SUM(D42:D43) -> 4 | E41: =(D41/B41) -> 1 | F41: =IF(E41>=0.5,"Đạt","Không đạt") -> Đạt | G41: =SUM(G42:G43) -> 4 | H41: =(G41/B41) -> 1 | I41: =IF(H41>=0.5,"Đạt","Không đạt") -> Đạt
A42: + Lựa chọn và thiết kế các công cụ kiểm tra, đánh giá kết quả học tập của người học phù hợp với môn học, mô-đun được phân công giảng dạy. | B42: 2 | C42: 2 | D42: 2 | E42: =(D42/B42) -> 1 | G42: 2 | H42: =(G42/B42) -> 1
A43: + Thực hiện việc kiểm tra, đánh giá toàn diện, chính xác, mang tính giáo dục và đúng quy định; sử dụng kết quả kiểm tra, đánh giá để điều chỉnh hoạt động dạy và học | B43: 2 | C43: 2 | D43: 2 | E43: =(D43/B43) -> 1 | G43: 2 | H43: =(G43/B43) -> 1
A44: - Tiêu chuẩn 5: Quản lý hồ sơ dạy học | B44: =SUM(B45:B46) -> 4 | C44: =SUM(C45:C46) -> 4 | D44: =SUM(D45:D46) -> 4 | E44: =(D44/B44) -> 1 | F44: =IF(E44>=0.5,"Đạt","Không đạt") -> Đạt | G44: =SUM(G45:G46) -> 4 | H44: =(G44/B44) -> 1 | I44: =IF(H44>=0.5,"Đạt","Không đạt") -> Đạt
A45: + Thực hiện đầy đủ các quy định về sử dụng biểu mẫu, sổ sách, hồ sơ dạy học. | B45: 2 | C45: 2 | D45: 2 | E45: =(D45/B45) -> 1 | G45: 2 | H45: =(G45/B45) -> 1
A46: + Bảo quản, lưu trữ, sử dụng hồ sơ dạy học theo quy định | B46: 2 | C46: 2 | D46: 2 | E46: =(D46/B46) -> 1 | G46: 2 | H46: =(G46/B46) -> 1
A47: - Tiêu chuẩn 6: Xây dựng chương trình, biên soạn giáo trình, tài liệu giảng dạy | B47: =SUM(B48:B49) -> 4 | C47: =SUM(C48:C49) -> 4 | D47: =SUM(D48:D49) -> 4 | E47: =(D47/B47) -> 1 | F47: =IF(E47>=0.5,"Đạt","Không đạt") -> Đạt | G47: =SUM(G48:G49) -> 4 | H47: =(G47/B47) -> 1 | I47: =IF(H47>=0.5,"Đạt","Không đạt") -> Đạt
A48: + Nắm được căn cứ, nguyên tắc, yêu cầu và quy trình xây dựng chương trình đào tạo trình độ cao đẳng. | B48: 2 | C48: 2 | D48: 2 | E48: =(D48/B48) -> 1 | G48: 2 | H48: =(G48/B48) -> 1
A49: + Chủ trì hoặc tham gia biên soạn, chỉnh lý chương trình, giáo trình, tài liệu đào tạo trình độ cao đẳng; chương trình bồi dưỡng nghề nghiệp. | B49: 2 | C49: 2 | D49: 2 | E49: =(D49/B49) -> 1 | G49: 2 | H49: =(G49/B49) -> 1
A50: - Tiêu chuẩn 7 về Xây dựng kế hoạch, thực hiện các hoạt động giáo dục | B50: =SUM(B51:B54) -> 8 | C50: =SUM(C51:C54) -> 8 | D50: =SUM(D51:D54) -> 4 | E50: =(D50/B50) -> 0.5 | F50: =IF(E50>=0.5,"Đạt","Không đạt") -> Đạt | G50: =SUM(G51:G54) -> 4 | H50: =(G50/B50) -> 0.5 | I50: =IF(H50>=0.5,"Đạt","Không đạt") -> Đạt
A51: + Xây dựng được kế hoạch giáo dục người học thông qua giảng dạy và qua các hoạt động khác | B51: 2 | C51: 2 | D51: 0 | E51: =(D51/B51) -> 0 | G51: 0 | H51: =(G51/B51) -> 0
A52: + Thực hiện việc giáo dục đạo đức nghề nghiệp, thái độ nghề nghiệp thông qua việc giảng dạy môn học, mô-đun theo kế hoạch đã xây dựng. | B52: 2 | C52: 2 | D52: 0 | E52: =(D52/B52) -> 0 | G52: 0 | H52: =(G52/B52) -> 0
A53: + Vận dụng các hiểu biết về tâm lý, giáo dục vào thực hiện hoạt động giáo dục người học | B53: 2 | C53: 2 | D53: 2 | E53: =(D53/B53) -> 1 | G53: 2 | H53: =(G53/B53) -> 1
A54: + Đánh giá kết quả các mặt rèn luyện đạo đức của người học theo quy định một cách chính xác, công bằng và có tác dụng giáo dục | B54: 2 | C54: 2 | D54: 2 | E54: =(D54/B54) -> 1 | G54: 2 | H54: =(G54/B54) -> 1
A55: - Tiêu chuẩn 8: Quản lý người học, xây dựng môi trường giáo dục, học tập | B55: =SUM(B56:B57) -> 4 | C55: =SUM(C56:C57) -> 4 | D55: =SUM(D56:D57) -> 4 | E55: =(D55/B55) -> 1 | F55: =IF(E55>=0.5,"Đạt","Không đạt") -> Đạt | G55: =SUM(G56:G57) -> 4 | H55: =(G55/B55) -> 1 | I55: =IF(H55>=0.5,"Đạt","Không đạt") -> Đạt
A56: + Quản lý được các thông tin liên quan đến người học và sử dụng hiệu quả các thông tin vào giáo dục, dạy học, quản lý người học | B56: 2 | C56: 2 | D56: 2 | E56: =(D56/B56) -> 1 | G56: 2 | H56: =(G56/B56) -> 1
A57: + Xây dựng môi trường giáo dục, học tập lành mạnh, thuận lợi, dân chủ, hợp tác | B57: 2 | C57: 2 | D57: 2 | E57: =(D57/B57) -> 1 | G57: 2 | H57: =(G57/B57) -> 1
A58: - Tiêu chuẩn 9: Hoạt động xã hội | B58: =SUM(B59:B60) -> 4 | C58: =SUM(C59:C60) -> 4 | D58: =SUM(D59:D60) -> 2 | E58: =(D58/B58) -> 0.5 | F58: =IF(E58>=0.5,"Đạt","Không đạt") -> Đạt | G58: =SUM(G59:G60) -> 2 | H58: =(G58/B58) -> 0.5 | I58: =IF(H58>=0.5,"Đạt","Không đạt") -> Đạt
A59: + Phối hợp với gia đình người học và cộng đồng động viên, hỗ trợ, giám sát việc học tập, rèn luyện của người học; góp phần huy động các nguồn lực xã hội xây dựng, phát triển cơ sở hoạt động giáo dục nghề nghiệp. | B59: 2 | C59: 2 | D59: 2 | E59: =(D59/B59) -> 1 | G59: 2 | H59: =(G59/B59) -> 1
A60: + Tham gia các hoạt động xã hội trong và ngoài cơ sở hoạt động giáo dục nghề nghiệp, xây dựng quan hệ giữa cơ sở hoạt động giáo dục nghề nghiệp với doanh nghiệp nhằm phát triển cơ sở hoạt động giáo dục nghề nghiệp, cộng đồng; xây dựng phong trào học nghề lập nghiệp trong xã hội | B60: 2 | C60: 2 | D60: 0 | E60: =(D60/B60) -> 0 | G60: 0 | H60: =(G60/B60) -> 0
A61: Tiêu chí 3 về Năng lực phát triển nghề nghiệp, nghiên cứu khoa học | B61: =SUM(B62,B67,B70) -> 16 | C61: =SUM(C62,C67,C70) -> 16 | D61: =SUM(D62,D67,D70) -> 10 | E61: =(D61/B61) -> 0.625 | F61: =IF(E61>=0.5,"Đạt","Không đạt") -> Đạt | G61: =SUM(G62,G67,G70) -> 10 | H61: =(G61/B61) -> 0.625 | I61: =IF(H61>=0.5,"Đạt","Không đạt") -> Đạt
A62: - Tiêu chuẩn 1: Học tập, bồi dưỡng nâng cao | B62: =SUM(B63:B66) -> 8 | C62: =SUM(C63:C66) -> 8 | D62: =SUM(D63:D66) -> 8 | E62: =(D62/B62) -> 1 | F62: =IF(E62>=0.5,"Đạt","Không đạt") -> Đạt | G62: =SUM(G63:G66) -> 6 | H62: =(G62/B62) -> 0.75 | I62: =IF(H62>=0.5,"Đạt","Không đạt") -> Đạt
A63: + Thường xuyên dự giờ, trao đổi kinh nghiệm giảng dạy, giáo dục với đồng nghiệp; tham gia bồi dưỡng đồng nghiệp theo yêu cầu phát triển của phòng, khoa, tổ bộ môn | B63: 2 | C63: 2 | D63: 2 | E63: =(D63/B63) -> 1 | G63: 2 | H63: =(G63/B63) -> 1
A64: + Tham gia hội giảng các cấp | B64: 2 | C64: 2 | D64: 2 | E64: =(D64/B64) -> 1 | G64: 0 | H64: =(G64/B64) -> 0
A65: + Thường xuyên tự học tập, bồi dưỡng, rèn luyện nâng cao trình độ chuyên môn, nghiệp vụ, phẩm chất đạo đức nghề nghiệp | B65: 2 | C65: 2 | D65: 2 | E65: =(D65/B65) -> 1 | G65: 2 | H65: =(G65/B65) -> 1
A66: + Tham gia các khóa đào tạo, bồi dưỡng nâng cao trình độ, cập nhật kiến thức, kỹ năng nghề, công nghệ, phương pháp giảng dạy đáp ứng yêu cầu của giáo dục nghề nghiệp. | B66: 2 | C66: 2 | D66: 2 | E66: =(D66/B66) -> 1 | G66: 2 | H66: =(G66/B66) -> 1 | I66: Đang theo học Sau Đại học Chuyên ngành
A67: - Tiêu chuẩn 2: Phát triển năng lực nghề nghiệp cho người học | B67: =SUM(B68:B69) -> 4 | C67: =SUM(C68:C69) -> 4 | D67: =SUM(D68:D69) -> 0 | E67: =(D67/B67) -> 0 | F67: =IF(E67>=0.5,"Đạt","Không đạt") -> Không đạt | G67: =SUM(G68:G69) -> 2 | H67: =(G67/B67) -> 0.5 | I67: =IF(H67>=0.5,"Đạt","Không đạt") -> Đạt
A68: + Hướng dẫn thực tập kết hợp với thực tiễn nghề nghiệp | B68: 2 | C68: 2 | D68: 0 | E68: =(D68/B68) -> 0 | G68: 2 | H68: =(G68/B68) -> 1
A69: + Tham gia bồi dưỡng nâng cao, luyện tay nghề cho học sinh, sinh viên giỏi các cấp | B69: 2 | C69: 2 | D69: 0 | E69: =(D69/B69) -> 0 | G69: 0 | H69: =(G69/B69) -> 0
A70: - Tiêu chuẩn 3: Nghiên cứu khoa học | B70: =SUM(B71:B72) -> 4 | C70: =SUM(C71:C72) -> 4 | D70: =SUM(D71:D72) -> 2 | E70: =(D70/B70) -> 0.5 | F70: =IF(E70>=0.5,"Đạt","Không đạt") -> Đạt | G70: =SUM(G71:G72) -> 2 | H70: =(G70/B70) -> 0.5 | I70: =IF(H70>=0.5,"Đạt","Không đạt") -> Đạt
A71: + Có kiến thức, kỹ năng cơ bản về nghiên cứu khoa học và công nghệ | B71: 2 | C71: 2 | D71: 2 | E71: =(D71/B71) -> 1 | G71: 2 | H71: =(G71/B71) -> 1 | I71: Bảng điểm Cao học có môn Nghiên cứu khoa học
A72: + Chủ trì hoặc tham gia đề tài nghiên cứu khoa học từ cấp cơ sở trở lên. | B72: 2 | C72: 2 | D72: 0 | E72: =(D72/B72) -> 0 | G72: 0 | H72: =(G72/B72) -> 0
A73: Tổng số điểm đánh giá | B73: =SUM(B11,B25,B61) -> 88 | C73: =SUM(C11,C25,C61) -> 88 | D73: =SUM(D11,D25,D61) -> 76 | E73: =(D73/B73) -> 0.86363636 | G73: =SUM(G11,G25,G61) -> 66 | H73: =(G73/B73) -> 0.75
A74: Điểm quy đổi | B74: 100 | C74: =(C73*B74)/B73 -> 100 | D74: =(D73*B74)/B73 -> 86.363636 | E74: =(D74/B74) -> 0.86363636 | G74: =(G73*B74)/B73 -> 75 | H74: =(G74/B74) -> 0.75
A75: Xếp loại | D75: =IF(AND(E12<0.5),"Không đạt",IF(AND(E19<0.5),"Không đạt",IF(AND(E22<0.5),"Không đạt",IF(AND(E26<0.5),"Không đạt",IF(AND(E29<0.5),"Không đạt",IF(AND(E36<0.5),"Không đạt",IF(AND(E41<0.5),"Không đạt",IF(AND(E44<0.5),"Không đạt",IF(AND(E47<0.5),"Không đạt",IF(AND(E50<0.5),"Không đạt",IF(AND(E55<0.5),"Không đạt",IF(AND(E58<0.5),"Không đạt",IF(AND(E62<0.5),"Không đạt",IF(AND(E67<0.5),"Không đạt",IF(AND(E70<0.5),"Không đạt",IF(AND(D74>=80),"A",IF(AND(D74>=65,D74<79),"B",IF(AND(D74>=50,D74<64),"C","Không đạt")))))))))))))))))) -> Không đạt | F75: =IF(E12<0.5,"Có Tiêu chuẩn dưới 50%",IF(AND(E19<0.5),"Có Tiêu chuẩn dưới 50%",IF(AND(E22<0.5),"Có Tiêu chuẩn dưới 50%",IF(AND(E26<0.5),"Có Tiêu chuẩn dưới 50%",IF(AND(E29<0.5),"Có Tiêu chuẩn dưới 50%",IF(AND(E36<0.5),"Có Tiêu chuẩn dưới 50%",IF(AND(E41<0.5),"Có Tiêu chuẩn dưới 50%",IF(AND(E44<0.5),"Có Tiêu chuẩn dưới 50%",IF(AND(E47<0.5),"Có Tiêu chuẩn dưới 50%",IF(AND(E50<0.5),"Có Tiêu chuẩn dưới 50%",IF(AND(E55<0.5),"Có Tiêu chuẩn dưới 50%",IF(AND(E58<0.5),"Có Tiêu chuẩn dưới 50%",IF(AND(E62<0.5),"Có Tiêu chuẩn dưới 50%",IF(AND(E67<0.5),"Có Tiêu chuẩn dưới 50%",IF(AND(E70<0.5),"Có Tiêu chuẩn dưới 50%","Tất cả các Tiêu chuẩn đạt trên 50%"))))))))))))))) -> Có Tiêu chuẩn dưới 50% | G75: =IF(AND(H12<0.5),"Không đạt",IF(AND(H19<0.5),"Không đạt",IF(AND(H22<0.5),"Không đạt",IF(AND(H26<0.5),"Không đạt",IF(AND(H29<0.5),"Không đạt",IF(AND(H36<0.5),"Không đạt",IF(AND(H41<0.5),"Không đạt",IF(AND(H44<0.5),"Không đạt",IF(AND(H47<0.5),"Không đạt",IF(AND(H50<0.5),"Không đạt",IF(AND(H55<0.5),"Không đạt",IF(AND(H58<0.5),"Không đạt",IF(AND(H62<0.5),"Không đạt",IF(AND(H67<0.5),"Không đạt",IF(AND(H70<0.5),"Không đạt",IF(AND(G74>=80),"A",IF(AND(G74>=65,G74<79),"B",IF(AND(G74>=50,G74<64),"C","Không đạt")))))))))))))))))) -> B | I75: =IF(H12<0.5,"Có Tiêu chuẩn dưới 50%",IF(AND(H19<0.5),"Có Tiêu chuẩn dưới 50%",IF(AND(H22<0.5),"Có Tiêu chuẩn dưới 50%",IF(AND(H26<0.5),"Có Tiêu chuẩn dưới 50%",IF(AND(H29<0.5),"Có Tiêu chuẩn dưới 50%",IF(AND(H36<0.5),"Có Tiêu chuẩn dưới 50%",IF(AND(H41<0.5),"Có Tiêu chuẩn dưới 50%",IF(AND(H44<0.5),"Có Tiêu chuẩn dưới 50%",IF(AND(H47<0.5),"Có Tiêu chuẩn dưới 50%",IF(AND(H50<0.5),"Có Tiêu chuẩn dưới 50%",IF(AND(H55<0.5),"Có Tiêu chuẩn dưới 50%",IF(AND(H58<0.5),"Có Tiêu chuẩn dưới 50%",IF(AND(H62<0.5),"Có Tiêu chuẩn dưới 50%",IF(AND(H67<0.5),"Có Tiêu chuẩn dưới 50%",IF(AND(H70<0.5),"Có Tiêu chuẩn dưới 50%","Tất cả các Tiêu chuẩn đạt trên 50%"))))))))))))))) -> Tất cả các Tiêu chuẩn đạt trên 50%
A77: TP. HCM, ngày…..tháng…..năm 2018 Nhà giáo tự đánh giá (ký và ghi rõ họ, tên) | G77: TP.HCM, ngày…… tháng …… năm 2018 Trưởng khoa (ký và ghi rõ họ, tên)
A81: Châu Văn Bảo | H81: Châu Văn Bảo

Sheet mau_00
A1: TRƯỜNG CAO ĐẲNG LÝ TỰ TRỌNG TP. HỒ CHÍ MINH | G1: CỘNG HÒA XÃ HỘI CHỦ NGHĨA VIỆT NAM
A2: KHOA KHOA HỌC CƠ BẢN | G2: Độc lập - Tự do - Hạnh phúc
A4: PHIẾU ĐÁNH GIÁ, XẾP LOẠI CHUYÊN MÔN, NGHIỆP VỤ CỦA NHÀ GIÁO
A5: Năm học: 2017-2018
A6: Họ và tên: ĐINH TRẦN PHƯƠNG THẢO
A7: Khoa, tổ bộ môn: Khoa Khoa học Cơ bản; Bộ môn Anh văn
A8: Cấp trình độ giảng dạy: Trung cấp và Cao đẳng
A9: Các tiêu chí và tiêu chuẩn | B9: Điểm tối đa | C9: Điểm tối đa | D9: Nhà giáo tự đánh giá xếp loại | G9: Khoa đánh giá, xếp loại
D10: Điểm đánh giá đạt được (Nhà giáo tự cho điểm) | E10: Tỷ lệ % của điểm đánh giá đạt được so với điểm đánh giá tối đa của mỗi tiêu chuẩn | F10: Các minh chứng (Nhà giáo nhập minh chứng ở cột này; Mỗi tiêu chuẩn cho điểm phải có minh chứng) | G10: Điểm đánh giá đạt được (Dành cho Trưởng khoa) | H10: Tỷ lệ % của điểm đánh giá đạt được so với điểm đánh giá tối đa của mỗi tiêu chuẩn | I10: Các minh chứng (Khoa nhập minh chứng ở cột này; Mỗi tiêu chuẩn cho điểm phải có minh chứng)
A11: ='ĐÁNH GIÁ GV_mau_01'!A11 -> Tiêu chí 1 về Năng lực chuyên môn | B11: ='ĐÁNH GIÁ GV_mau_01'!B11 -> 20 | C11: =SUM(C12,C13,C16) -> #REF! | D11: ='ĐÁNH GIÁ GV_mau_01'!D11 -> 20 | E11: =(D11/B11) -> 1 | F11: ='ĐÁNH GIÁ GV_mau_01'!F11 -> Đạt | G11: ='ĐÁNH GIÁ GV_mau_01'!G11 -> 18 | H11: ='ĐÁNH GIÁ GV_mau_01'!H11 -> 0.9 | I11: ='ĐÁNH GIÁ GV_mau_01'!I11 -> Đạt
A12: ='ĐÁNH GIÁ GV_mau_01'!A12 -> - Tiêu chuẩn 1: Trình độ chuyên môn | B12: ='ĐÁNH GIÁ GV_mau_01'!B12 -> 12 | C12: =SUM(#REF!) -> #REF! | D12: ='ĐÁNH GIÁ GV_mau_01'!D12 -> 12 | E12: ='ĐÁNH GIÁ GV_mau_01'!E12 -> 1 | F12: ='ĐÁNH GIÁ GV_mau_01'!F12 -> Đạt | G12: ='ĐÁNH GIÁ GV_mau_01'!G12 -> 10 | H12: ='ĐÁNH GIÁ GV_mau_01'!H12 -> 0.83333333 | I12: ='ĐÁNH GIÁ GV_mau_01'!I12 -> Đạt
A13: ='ĐÁNH GIÁ GV_mau_01'!A19 -> - Tiêu chuẩn 2: Trình độ ngoại ngữ | B13: ='ĐÁNH GIÁ GV_mau_01'!B19 -> 4 | C13: =SUM(C14:C15) -> 4 | D13: ='ĐÁNH GIÁ GV_mau_01'!D19 -> 4 | E13: ='ĐÁNH GIÁ GV_mau_01'!E19 -> 1 | F13: ='ĐÁNH GIÁ GV_mau_01'!F19 -> Đạt | G13: ='ĐÁNH GIÁ GV_mau_01'!G19 -> 4 | H13: ='ĐÁNH GIÁ GV_mau_01'!H19 -> 1 | I13: ='ĐÁNH GIÁ GV_mau_01'!I19 -> Đạt
A14: ='ĐÁNH GIÁ GV_mau_01'!A22 -> - Tiêu chuẩn 3: Trình độ tin học | B14: 2 | C14: 2 | D14: 2 | E14: =(D14/B14) -> 1 | G14: 2 | H14: =(G14/B14) -> 1 | I14: CEFR: C1 Chứng chỉ Tiếng Hoa HSK Level 3
A15: + Đọc và hiểu tài liệu chuyên ngành phục vụ công tác giảng dạy; mô tả được một số công việc cơ bản của ngành, nghề được phân công giảng dạy. | B15: 2 | C15: 2 | D15: 2 | E15: =(D15/B15) -> 1 | G15: 2 | H15: =(G15/B15) -> 1
A16: - Tiêu chuẩn 3: Trình độ tin học | B16: =SUM(B17:B18) -> 4 | C16: =SUM(C17:C18) -> 4 | D16: =SUM(D17:D18) -> 4 | E16: =(D16/B16) -> 1 | F16: =IF(E16>=0.5,"Đạt","Không đạt") -> Đạt | G16: =SUM(G17:G18) -> 4 | H16: =(G16/B16) -> 1 | I16: =IF(H16>=0.5,"Đạt","Không đạt") -> Đạt
A17: + Có trình độ tin học đạt Chuẩn kỹ năng sử dụng công nghệ thông tin cơ bản theo quy định tại Thông tư số 03/2014/TT-BTTTT ngày 11/3/2014 của Bộ Thông tin và Truyền thông quy định Chuẩn kỹ năng sử dụng công nghệ thông tin hoặc tương đương trở lên. | B17: 2 | C17: 2 | D17: 2 | E17: =(D17/B17) -> 1 | G17: 2 | H17: =(G17/B17) -> 1 | I17: Chứng chỉ A Tin học
A18: + Sử dụng thành thạo phần mềm dạy học chuyên ngành để thiết kế bài giảng, tài liệu giảng dạy. | B18: 2 | C18: 2 | D18: 2 | E18: =(D18/B18) -> 1 | G18: 2 | H18: =(G18/B18) -> 1
A19: Tiêu chí 2 về Năng lực sư phạm | B19: =SUM(B20,B23,B30,B35,B38,B41,B44,B49,B52) -> 52 | C19: =SUM(C20,C23,C30,C35,C38,C41,C44,C49,C52) -> 52 | D19: =SUM(D20,D23,D30,D35,D38,D41,D44,D49,D52) -> 46 | E19: =(D19/B19) -> 0.88461538 | F19: =IF(E19>=0.5,"Đạt","Không đạt") -> Đạt | G19: =SUM(G20,G23,G30,G35,G38,G41,G44,G49,G52) -> 38 | H19: =(G19/B19) -> 0.73076923 | I19: =IF(H19>=0.5,"Đạt","Không đạt") -> Đạt
A20: - Tiêu chuẩn 1 về Trình độ nghiệp vụ sư phạm và thời gian tham gia giảng dạy | B20: =SUM(B21:B22) -> 4 | C20: =SUM(C21:C22) -> 4 | D20: =SUM(D21:D22) -> 4 | E20: =(D20/B20) -> 1 | F20: =IF(E20>=0.5,"Đạt","Không đạt") -> Đạt | G20: =SUM(G21:G22) -> 4 | H20: =(G20/B20) -> 1 | I20: =IF(H20>=0.5,"Đạt","Không đạt") -> Đạt
A21: + Có chứng chỉ sư phạm dạy nghề dạy trình độ trung cấp nghề, cao đẳng nghề hoặc chứng chỉ bồi dưỡng nghiệp vụ sư phạm cho giảng viên đại học, cao đẳng hoặc bằng tốt nghiệp đại học chuyên ngành sư phạm hoặc chứng chỉ nghiệp vụ sư phạm dạy trình độ cao đẳng hoặc tương đương. | B21: 2 | C21: 2 | D21: 2 | E21: =(D21/B21) -> 1 | G21: 2 | H21: =(G21/B21) -> 1
A22: + Có thời gian tham gia giảng dạy ít nhất 12 tháng. | B22: 2 | C22: 2 | D22: 2 | E22: =(D22/B22) -> 1 | G22: 2 | H22: =(G22/B22) -> 1
A23: - Tiêu chuẩn 2: Chuẩn bị hoạt động giảng dạy | B23: =SUM(B24:B29) -> 12 | C23: =SUM(C24:C29) -> 12 | D23: =SUM(D24:D29) -> 12 | E23: =(D23/B23) -> 1 | F23: =IF(E23>=0.5,"Đạt","Không đạt") -> Đạt | G23: =SUM(G24:G29) -> 6 | H23: =(G23/B23) -> 0.5 | I23: =IF(H23>=0.5,"Đạt","Không đạt") -> Đạt
A24: + Lập được kế hoạch giảng dạy môn học, mô-đun được phân công trên cơ sở chương trình, kế hoạch đào tạo của cả khóa học. | B24: 2 | C24: 2 | D24: 2 | E24: =(D24/B24) -> 1 | G24: 2 | H24: =(G24/B24) -> 1
A25: + Soạn giáo án theo quy định, thể hiện được các hoạt động dạy và học. | B25: 2 | C25: 2 | D25: 2 | E25: =(D25/B25) -> 1 | G25: 2 | H25: =(G25/B25) -> 1
A26: + Lựa chọn phương pháp dạy học phù hợp cho các bài học của chương trình môn học, mô-đun được phân công giảng dạy. | B26: 2 | C26: 2 | D26: 2 | E26: =(D26/B26) -> 1 | G26: 2 | H26: =(G26/B26) -> 1
A27: + Chuẩn bị đầy đủ các phương tiện dạy học, thiết bị, nguyên, nhiên, vật liệu thực hành cần thiết | B27: 2 | C27: 2 | D27: 2 | E27: =(D27/B27) -> 1 | G27: 0 | H27: =(G27/B27) -> 0
A28: + Tự làm các thiết bị dạy học đơn giản để phục vụ giảng dạy | B28: 2 | C28: 2 | D28: 2 | E28: =(D28/B28) -> 1 | G28: 0 | H28: =(G28/B28) -> 0
A29: + Chủ trì hoặc tham gia thiết kế và bố trí trang thiết bị dạy học của phòng học chuyên môn phù hợp với chương trình của ngành, nghề được phân công giảng dạy. | B29: 2 | C29: 2 | D29: 2 | E29: =(D29/B29) -> 1 | G29: 0 | H29: =(G29/B29) -> 0
A30: - Tiêu chuẩn 3: Thực hiện hoạt động giảng dạy | B30: 8 | C30: =SUM(C31:C34) -> 8 | D30: =SUM(D31:D34) -> 8 | E30: =(D30/B30) -> 1 | F30: =IF(E30>=0.5,"Đạt","Không đạt") -> Đạt | G30: =SUM(G31:G34) -> 6 | H30: =(G30/B30) -> 0.75 | I30: =IF(H30>=0.5,"Đạt","Không đạt") -> Đạt
A31: + Tổ chức dạy học phù hợp với ngành, nghề đào tạo và với từng đối tượng người học; thực hiện đầy đủ kế hoạch giảng dạy, đúng chương trình, nội dung. | B31: 2 | C31: 2 | D31: 2 | E31: =(D31/B31) -> 1 | G31: 2 | H31: =(G31/B31) -> 1
A32: + Thực hiện các giờ dạy lý thuyết, thực hành, tích hợp theo quy định | B32: 2 | C32: 2 | D32: 2 | E32: =(D32/B32) -> 1 | G32: 2 | H32: =(G32/B32) -> 1
A33: + Vận dụng, kết hợp các phương pháp dạy học để phát huy tính tích cực, sáng tạo, phát triển năng lực tự học của người học | B33: 2 | C33: 2 | D33: 2 | E33: =(D33/B33) -> 1 | G33: 2 | H33: =(G33/B33) -> 1
A34: + Sử dụng thành thạo các phương tiện, thiết bị dạy học để nâng cao hiệu quả giảng dạy, đảm bảo chất lượng giáo dục nghề nghiệp | B34: 2 | C34: 2 | D34: 2 | E34: =(D34/B34) -> 1 | G34: 0 | H34: =(G34/B34) -> 0
A35: - Tiêu chuẩn 4: Kiểm tra, đánh giá kết quả học tập của người học | B35: =SUM(B36:B37) -> 4 | C35: =SUM(C36:C37) -> 4 | D35: =SUM(D36:D37) -> 4 | E35: =(D35/B35) -> 1 | F35: =IF(E35>=0.5,"Đạt","Không đạt") -> Đạt | G35: =SUM(G36:G37) -> 4 | H35: =(G35/B35) -> 1 | I35: =IF(H35>=0.5,"Đạt","Không đạt") -> Đạt
A36: + Lựa chọn và thiết kế các công cụ kiểm tra, đánh giá kết quả học tập của người học phù hợp với môn học, mô-đun được phân công giảng dạy. | B36: 2 | C36: 2 | D36: 2 | E36: =(D36/B36) -> 1 | G36: 2 | H36: =(G36/B36) -> 1
A37: + Thực hiện việc kiểm tra, đánh giá toàn diện, chính xác, mang tính giáo dục và đúng quy định; sử dụng kết quả kiểm tra, đánh giá để điều chỉnh hoạt động dạy và học | B37: 2 | C37: 2 | D37: 2 | E37: =(D37/B37) -> 1 | G37: 2 | H37: =(G37/B37) -> 1
A38: - Tiêu chuẩn 5: Quản lý hồ sơ dạy học | B38: =SUM(B39:B40) -> 4 | C38: =SUM(C39:C40) -> 4 | D38: =SUM(D39:D40) -> 4 | E38: =(D38/B38) -> 1 | F38: =IF(E38>=0.5,"Đạt","Không đạt") -> Đạt | G38: =SUM(G39:G40) -> 4 | H38: =(G38/B38) -> 1 | I38: =IF(H38>=0.5,"Đạt","Không đạt") -> Đạt
A39: + Thực hiện đầy đủ các quy định về sử dụng biểu mẫu, sổ sách, hồ sơ dạy học. | B39: 2 | C39: 2 | D39: 2 | E39: =(D39/B39) -> 1 | G39: 2 | H39: =(G39/B39) -> 1
A40: + Bảo quản, lưu trữ, sử dụng hồ sơ dạy học theo quy định | B40: 2 | C40: 2 | D40: 2 | E40: =(D40/B40) -> 1 | G40: 2 | H40: =(G40/B40) -> 1
A41: - Tiêu chuẩn 6: Xây dựng chương trình, biên soạn giáo trình, tài liệu giảng dạy | B41: =SUM(B42:B43) -> 4 | C41: =SUM(C42:C43) -> 4 | D41: =SUM(D42:D43) -> 4 | E41: =(D41/B41) -> 1 | F41: =IF(E41>=0.5,"Đạt","Không đạt") -> Đạt | G41: =SUM(G42:G43) -> 4 | H41: =(G41/B41) -> 1 | I41: =IF(H41>=0.5,"Đạt","Không đạt") -> Đạt
A42: + Nắm được căn cứ, nguyên tắc, yêu cầu và quy trình xây dựng chương trình đào tạo trình độ cao đẳng. | B42: 2 | C42: 2 | D42: 2 | E42: =(D42/B42) -> 1 | G42: 2 | H42: =(G42/B42) -> 1
A43: + Chủ trì hoặc tham gia biên soạn, chỉnh lý chương trình, giáo trình, tài liệu đào tạo trình độ cao đẳng; chương trình bồi dưỡng nghề nghiệp. | B43: 2 | C43: 2 | D43: 2 | E43: =(D43/B43) -> 1 | G43: 2 | H43: =(G43/B43) -> 1
A44: - Tiêu chuẩn 7 về Xây dựng kế hoạch, thực hiện các hoạt động giáo dục | B44: =SUM(B45:B48) -> 8 | C44: =SUM(C45:C48) -> 8 | D44: =SUM(D45:D48) -> 4 | E44: =(D44/B44) -> 0.5 | F44: =IF(E44>=0.5,"Đạt","Không đạt") -> Đạt | G44: =SUM(G45:G48) -> 4 | H44: =(G44/B44) -> 0.5 | I44: =IF(H44>=0.5,"Đạt","Không đạt") -> Đạt
A45: + Xây dựng được kế hoạch giáo dục người học thông qua giảng dạy và qua các hoạt động khác | B45: 2 | C45: 2 | D45: 0 | E45: =(D45/B45) -> 0 | G45: 0 | H45: =(G45/B45) -> 0
A46: + Thực hiện việc giáo dục đạo đức nghề nghiệp, thái độ nghề nghiệp thông qua việc giảng dạy môn học, mô-đun theo kế hoạch đã xây dựng. | B46: 2 | C46: 2 | D46: 0 | E46: =(D46/B46) -> 0 | G46: 0 | H46: =(G46/B46) -> 0
A47: + Vận dụng các hiểu biết về tâm lý, giáo dục vào thực hiện hoạt động giáo dục người học | B47: 2 | C47: 2 | D47: 2 | E47: =(D47/B47) -> 1 | G47: 2 | H47: =(G47/B47) -> 1
A48: + Đánh giá kết quả các mặt rèn luyện đạo đức của người học theo quy định một cách chính xác, công bằng và có tác dụng giáo dục | B48: 2 | C48: 2 | D48: 2 | E48: =(D48/B48) -> 1 | G48: 2 | H48: =(G48/B48) -> 1
A49: - Tiêu chuẩn 8: Quản lý người học, xây dựng môi trường giáo dục, học tập | B49: =SUM(B50:B51) -> 4 | C49: =SUM(C50:C51) -> 4 | D49: =SUM(D50:D51) -> 4 | E49: =(D49/B49) -> 1 | F49: =IF(E49>=0.5,"Đạt","Không đạt") -> Đạt | G49: =SUM(G50:G51) -> 4 | H49: =(G49/B49) -> 1 | I49: =IF(H49>=0.5,"Đạt","Không đạt") -> Đạt
A50: + Quản lý được các thông tin liên quan đến người học và sử dụng hiệu quả các thông tin vào giáo dục, dạy học, quản lý người học | B50: 2 | C50: 2 | D50: 2 | E50: =(D50/B50) -> 1 | G50: 2 | H50: =(G50/B50) -> 1
A51: + Xây dựng môi trường giáo dục, học tập lành mạnh, thuận lợi, dân chủ, hợp tác | B51: 2 | C51: 2 | D51: 2 | E51: =(D51/B51) -> 1 | G51: 2 | H51: =(G51/B51) -> 1
A52: - Tiêu chuẩn 9: Hoạt động xã hội | B52: =SUM(B53:B54) -> 4 | C52: =SUM(C53:C54) -> 4 | D52: =SUM(D53:D54) -> 2 | E52: =(D52/B52) -> 0.5 | F52: =IF(E52>=0.5,"Đạt","Không đạt") -> Đạt | G52: =SUM(G53:G54) -> 2 | H52: =(G52/B52) -> 0.5 | I52: =IF(H52>=0.5,"Đạt","Không đạt") -> Đạt
A53: + Phối hợp với gia đình người học và cộng đồng động viên, hỗ trợ, giám sát việc học tập, rèn luyện của người học; góp phần huy động các nguồn lực xã hội xây dựng, phát triển cơ sở hoạt động giáo dục nghề nghiệp. | B53: 2 | C53: 2 | D53: 2 | E53: =(D53/B53) -> 1 | G53: 2 | H53: =(G53/B53) -> 1
A54: + Tham gia các hoạt động xã hội trong và ngoài cơ sở hoạt động giáo dục nghề nghiệp, xây dựng quan hệ giữa cơ sở hoạt động giáo dục nghề nghiệp với doanh nghiệp nhằm phát triển cơ sở hoạt động giáo dục nghề nghiệp, cộng đồng; xây dựng phong trào học nghề lập nghiệp trong xã hội | B54: 2 | C54: 2 | D54: 0 | E54: =(D54/B54) -> 0 | G54: 0 | H54: =(G54/B54) -> 0
A55: Tiêu chí 3 về Năng lực phát triển nghề nghiệp, nghiên cứu khoa học | B55: =SUM(B56,B61,B64) -> 16 | C55: =SUM(C56,C61,C64) -> 16 | D55: =SUM(D56,D61,D64) -> 10 | E55: =(D55/B55) -> 0.625 | F55: =IF(E55>=0.5,"Đạt","Không đạt") -> Đạt | G55: =SUM(G56,G61,G64) -> 10 | H55: =(G55/B55) -> 0.625 | I55: =IF(H55>=0.5,"Đạt","Không đạt") -> Đạt
A56: - Tiêu chuẩn 1: Học tập, bồi dưỡng nâng cao | B56: =SUM(B57:B60) -> 8 | C56: =SUM(C57:C60) -> 8 | D56: =SUM(D57:D60) -> 8 | E56: =(D56/B56) -> 1 | F56: =IF(E56>=0.5,"Đạt","Không đạt") -> Đạt | G56: =SUM(G57:G60) -> 6 | H56: =(G56/B56) -> 0.75 | I56: =IF(H56>=0.5,"Đạt","Không đạt") -> Đạt
A57: + Thường xuyên dự giờ, trao đổi kinh nghiệm giảng dạy, giáo dục với đồng nghiệp; tham gia bồi dưỡng đồng nghiệp theo yêu cầu phát triển của phòng, khoa, tổ bộ môn | B57: 2 | C57: 2 | D57: 2 | E57: =(D57/B57) -> 1 | G57: 2 | H57: =(G57/B57) -> 1
A58: + Tham gia hội giảng các cấp | B58: 2 | C58: 2 | D58: 2 | E58: =(D58/B58) -> 1 | G58: 0 | H58: =(G58/B58) -> 0
A59: + Thường xuyên tự học tập, bồi dưỡng, rèn luyện nâng cao trình độ chuyên môn, nghiệp vụ, phẩm chất đạo đức nghề nghiệp | B59: 2 | C59: 2 | D59: 2 | E59: =(D59/B59) -> 1 | G59: 2 | H59: =(G59/B59) -> 1
A60: + Tham gia các khóa đào tạo, bồi dưỡng nâng cao trình độ, cập nhật kiến thức, kỹ năng nghề, công nghệ, phương pháp giảng dạy đáp ứng yêu cầu của giáo dục nghề nghiệp. | B60: 2 | C60: 2 | D60: 2 | E60: =(D60/B60) -> 1 | G60: 2 | H60: =(G60/B60) -> 1 | I60: Đang theo học Sau Đại học Chuyên ngành
A61: - Tiêu chuẩn 2: Phát triển năng lực nghề nghiệp cho người học | B61: =SUM(B62:B63) -> 4 | C61: =SUM(C62:C63) -> 4 | D61: =SUM(D62:D63) -> 0 | E61: =(D61/B61) -> 0 | F61: =IF(E61>=0.5,"Đạt","Không đạt") -> Không đạt | G61: =SUM(G62:G63) -> 2 | H61: =(G61/B61) -> 0.5 | I61: =IF(H61>=0.5,"Đạt","Không đạt") -> Đạt
A62: + Hướng dẫn thực tập kết hợp với thực tiễn nghề nghiệp | B62: 2 | C62: 2 | D62: 0 | E62: =(D62/B62) -> 0 | G62: 2 | H62: =(G62/B62) -> 1
A63: + Tham gia bồi dưỡng nâng cao, luyện tay nghề cho học sinh, sinh viên giỏi các cấp | B63: 2 | C63: 2 | D63: 0 | E63: =(D63/B63) -> 0 | G63: 0 | H63: =(G63/B63) -> 0
A64: - Tiêu chuẩn 3: Nghiên cứu khoa học | B64: =SUM(B65:B66) -> 4 | C64: =SUM(C65:C66) -> 4 | D64: =SUM(D65:D66) -> 2 | E64: =(D64/B64) -> 0.5 | F64: =IF(E64>=0.5,"Đạt","Không đạt") -> Đạt | G64: =SUM(G65:G66) -> 2 | H64: =(G64/B64) -> 0.5 | I64: =IF(H64>=0.5,"Đạt","Không đạt") -> Đạt
A65: + Có kiến thức, kỹ năng cơ bản về nghiên cứu khoa học và công nghệ | B65: 2 | C65: 2 | D65: 2 | E65: =(D65/B65) -> 1 | G65: 2 | H65: =(G65/B65) -> 1 | I65: Bảng điểm Cao học có môn Nghiên cứu khoa học
A66: + Chủ trì hoặc tham gia đề tài nghiên cứu khoa học từ cấp cơ sở trở lên. | B66: 2 | C66: 2 | D66: 0 | E66: =(D66/B66) -> 0 | G66: 0 | H66: =(G66/B66) -> 0
A67: Tổng số điểm đánh giá | B67: =SUM(B11,B19,B55) -> 88 | C67: =SUM(C11,C19,C55) -> #REF! | D67: =SUM(D11,D19,D55) -> 76 | E67: =(D67/B67) -> 0.86363636 | G67: =SUM(G11,G19,G55) -> 66 | H67: =(G67/B67) -> 0.75
A68: Điểm quy đổi | B68: 100 | C68: =(C67*B68)/B67 -> #REF! | D68: =(D67*B68)/B67 -> 86.363636 | E68: =(D68/B68) -> 0.86363636 | G68: =(G67*B68)/B67 -> 75 | H68: =(G68/B68) -> 0.75
A69: Xếp loại | D69: =IF(AND(E12<0.5),"Không đạt",IF(AND(E13<0.5),"Không đạt",IF(AND(E16<0.5),"Không đạt",IF(AND(E20<0.5),"Không đạt",IF(AND(E23<0.5),"Không đạt",IF(AND(E30<0.5),"Không đạt",IF(AND(E35<0.5),"Không đạt",IF(AND(E38<0.5),"Không đạt",IF(AND(E41<0.5),"Không đạt",IF(AND(E44<0.5),"Không đạt",IF(AND(E49<0.5),"Không đạt",IF(AND(E52<0.5),"Không đạt",IF(AND(E56<0.5),"Không đạt",IF(AND(E61<0.5),"Không đạt",IF(AND(E64<0.5),"Không đạt",IF(AND(D68>=80),"A",IF(AND(D68>=65,D68<79),"B",IF(AND(D68>=50,D68<64),"C","Không đạt")))))))))))))))))) -> Không đạt | F69: =IF(E12<0.5,"Có Tiêu chuẩn dưới 50%",IF(AND(E13<0.5),"Có Tiêu chuẩn dưới 50%",IF(AND(E16<0.5),"Có Tiêu chuẩn dưới 50%",IF(AND(E20<0.5),"Có Tiêu chuẩn dưới 50%",IF(AND(E23<0.5),"Có Tiêu chuẩn dưới 50%",IF(AND(E30<0.5),"Có Tiêu chuẩn dưới 50%",IF(AND(E35<0.5),"Có Tiêu chuẩn dưới 50%",IF(AND(E38<0.5),"Có Tiêu chuẩn dưới 50%",IF(AND(E41<0.5),"Có Tiêu chuẩn dưới 50%",IF(AND(E44<0.5),"Có Tiêu chuẩn dưới 50%",IF(AND(E49<0.5),"Có Tiêu chuẩn dưới 50%",IF(AND(E52<0.5),"Có Tiêu chuẩn dưới 50%",IF(AND(E56<0.5),"Có Tiêu chuẩn dưới 50%",IF(AND(E61<0.5),"Có Tiêu chuẩn dưới 50%",IF(AND(E64<0.5),"Có Tiêu chuẩn dưới 50%","Tất cả các Tiêu chuẩn đạt trên 50%"))))))))))))))) -> Có Tiêu chuẩn dưới 50% | G69: =IF(AND(H12<0.5),"Không đạt",IF(AND(H13<0.5),"Không đạt",IF(AND(H16<0.5),"Không đạt",IF(AND(H20<0.5),"Không đạt",IF(AND(H23<0.5),"Không đạt",IF(AND(H30<0.5),"Không đạt",IF(AND(H35<0.5),"Không đạt",IF(AND(H38<0.5),"Không đạt",IF(AND(H41<0.5),"Không đạt",IF(AND(H44<0.5),"Không đạt",IF(AND(H49<0.5),"Không đạt",IF(AND(H52<0.5),"Không đạt",IF(AND(H56<0.5),"Không đạt",IF(AND(H61<0.5),"Không đạt",IF(AND(H64<0.5),"Không đạt",IF(AND(G68>=80),"A",IF(AND(G68>=65,G68<79),"B",IF(AND(G68>=50,G68<64),"C","Không đạt")))))))))))))))))) -> B | I69: =IF(H12<0.5,"Có Tiêu chuẩn dưới 50%",IF(AND(H13<0.5),"Có Tiêu chuẩn dưới 50%",IF(AND(H16<0.5),"Có Tiêu chuẩn dưới 50%",IF(AND(H20<0.5),"Có Tiêu chuẩn dưới 50%",IF(AND(H23<0.5),"Có Tiêu chuẩn dưới 50%",IF(AND(H30<0.5),"Có Tiêu chuẩn dưới 50%",IF(AND(H35<0.5),"Có Tiêu chuẩn dưới 50%",IF(AND(H38<0.5),"Có Tiêu chuẩn dưới 50%",IF(AND(H41<0.5),"Có Tiêu chuẩn dưới 50%",IF(AND(H44<0.5),"Có Tiêu chuẩn dưới 50%",IF(AND(H49<0.5),"Có Tiêu chuẩn dưới 50%",IF(AND(H52<0.5),"Có Tiêu chuẩn dưới 50%",IF(AND(H56<0.5),"Có Tiêu chuẩn dưới 50%",IF(AND(H61<0.5),"Có Tiêu chuẩn dưới 50%",IF(AND(H64<0.5),"Có Tiêu chuẩn dưới 50%","Tất cả các Tiêu chuẩn đạt trên 50%"))))))))))))))) -> Tất cả các Tiêu chuẩn đạt trên 50%
A71: TP. HCM, ngày…..tháng…..năm 2018 Nhà giáo tự đánh giá (ký và ghi rõ họ, tên) | G71: TP.HCM, ngày…… tháng …… năm 2018 Trưởng khoa (ký và ghi rõ họ, tên)
A75: Châu Văn Bảo | H75: Châu Văn Bảo
